BEGIN:VCALENDAR
VERSION:2.0
PRODID:-//MetroPlan Orlando - ECPv4.7.3//NONSGML v1.0//EN
CALSCALE:GREGORIAN
METHOD:PUBLISH
X-ORIGINAL-URL:https://metroplanorlando.gov
X-WR-CALDESC:Events for MetroPlan Orlando
BEGIN:VEVENT
TZID:America/New_York
DTSTART:20240909T131500
DTEND:20240909T143000
DTSTAMP:20260422T003005
CREATED:20240822T142734Z
LAST-MODIFIED:20240822T142746Z
UID:20573-1725887700-1725892200@metroplanorlando.gov
SUMMARY:Regional Freight Needs Assessment - Industry Stakeholder Meeting #2
DESCRIPTION:Outreach meeting with freight industry stakeholders to present findings on identified freight challenges and needs\, introduce the freight roadway network designation process\, and to gather industry feedback on regional freight needs assessment/findings.  For more information\, please contact Mr. Jason Sartorio\, Jason.Sartorio@MetroPlanOrlando.gov  (407) 481-5672 ext. 321 \nVIRTUAL LINK:  \nPlease click the link below to join the webinar:\nhttps://us02web.zoom.us/j/86522555235?pwd=g2HupJuStdpW6kI4WVi3KNSIAHMDCo.1\nPasscode: 989713 \nOr Telephone:\n+1 305 224 1968\n+1 301 715 8592\n+1 309 205 3325 \nWebinar ID: 865 2255 5235\nPasscode: 989713 \n  \n
URL:https://metroplanorlando.gov/meetings/regional-freight-needs-assessment-industry-stakeholder-meeting-2-09-09-24/
LOCATION:Virtual Meeting
CATEGORIES:Other Meetings
ORGANIZER;CN="Rachel%20Frederick":MAILTO:Rachel.Frederick@MetroPlanOrlando.gov
END:VEVENT
END:VCALENDAR