BEGIN:VCALENDAR
VERSION:2.0
PRODID:-//MetroPlan Orlando - ECPv4.7.3//NONSGML v1.0//EN
CALSCALE:GREGORIAN
METHOD:PUBLISH
X-ORIGINAL-URL:https://metroplanorlando.gov
X-WR-CALDESC:Events for MetroPlan Orlando
BEGIN:VEVENT
TZID:America/New_York
DTSTART:20170711T150000
DTEND:20170711T160000
DTSTAMP:20260422T070140
CREATED:20170628T160020Z
LAST-MODIFIED:20170629T155133Z
UID:5472-1499785200-1499788800@metroplanorlando.gov
SUMMARY:Regional Leadership Council
DESCRIPTION:The Regional Leadership Council includes officers from the MetroPlan Orlando Board\, Community Advisory Committee\, Technical Advisory Committee\, Transportation Systems Management & Operations Advisory Committee\, and Municipal Advisory Committee. This group meets from time to time to provide guidance on policy issues. For more information\, contact Deputy Executive Director Gary Huttmann at 407-481-5672 x319. \n
URL:https://metroplanorlando.gov/meetings/regional-leadership-council-07-11-17/
LOCATION:MetroPlan Orlando Harold W. Barley Conference Room\, 250 S. Orange Ave.\, Suite 200\, Orlando\, FL\, 32801\, United States
GEO:28.5394075;-81.3797567
X-APPLE-STRUCTURED-LOCATION;VALUE=URI;X-ADDRESS=MetroPlan Orlando Harold W. Barley Conference Room 250 S. Orange Ave. Suite 200 Orlando FL 32801 United States;X-APPLE-RADIUS=500;X-TITLE=250 S. Orange Ave.\, Suite 200:geo:-81.3797567,28.5394075
CATEGORIES:Other Meetings
ORGANIZER;CN="Rachel%20Frederick":MAILTO:Rachel.Frederick@MetroPlanOrlando.gov
END:VEVENT
END:VCALENDAR