BEGIN:VCALENDAR
VERSION:2.0
PRODID:-//MetroPlan Orlando - ECPv4.7.3//NONSGML v1.0//EN
CALSCALE:GREGORIAN
METHOD:PUBLISH
X-ORIGINAL-URL:https://metroplanorlando.gov
X-WR-CALDESC:Events for MetroPlan Orlando
BEGIN:VEVENT
TZID:America/New_York
DTSTART:20170421T113000
DTEND:20170421T130000
DTSTAMP:20260422T064644
CREATED:20170417T152504Z
LAST-MODIFIED:20170417T152607Z
UID:5058-1492774200-1492779600@metroplanorlando.gov
SUMMARY:Regional Transit Study Project Advisory Group
DESCRIPTION:The regional transit study project advisory group is made up of the executive directors of the six metropolitan planning organizations in the Central Florida MPO Alliance. This group will receive an update on a regional transit study under way. For more information\, contact project manager Virginia Whittington at 407-481-5672 x314. \n
URL:https://metroplanorlando.gov/meetings/regional-transit-study-project-advisory-group-04-21-17/
LOCATION:MetroPlan Orlando Harold W. Barley Conference Room\, 250 S. Orange Ave.\, Suite 200\, Orlando\, FL\, 32801\, United States
GEO:28.5394075;-81.3797567
X-APPLE-STRUCTURED-LOCATION;VALUE=URI;X-ADDRESS=MetroPlan Orlando Harold W. Barley Conference Room 250 S. Orange Ave. Suite 200 Orlando FL 32801 United States;X-APPLE-RADIUS=500;X-TITLE=250 S. Orange Ave.\, Suite 200:geo:-81.3797567,28.5394075
CATEGORIES:Other Meetings
ORGANIZER;CN="Lisa%20Smith":MAILTO:Lisa.Smith@MetroPlanOrlando.gov
END:VEVENT
END:VCALENDAR