BEGIN:VCALENDAR
VERSION:2.0
PRODID:-//MetroPlan Orlando - ECPv4.7.3//NONSGML v1.0//EN
CALSCALE:GREGORIAN
METHOD:PUBLISH
X-ORIGINAL-URL:https://metroplanorlando.gov
X-WR-CALDESC:Events for MetroPlan Orlando
BEGIN:VEVENT
TZID:America/New_York
DTSTART:20200609T130000
DTEND:20200609T140000
DTSTAMP:20260421T155758
CREATED:20200601T190004Z
LAST-MODIFIED:20200601T191541Z
UID:10426-1591707600-1591711200@metroplanorlando.gov
SUMMARY:RFP 2020-02 Traffic Signal Retiming- Shortlisting Virual Meeting
DESCRIPTION:The selection committee for the Traffic Signal Retiming RFP 2020-02 will meet virtually through the Zoom platform\, to compile the draft rankings of firms to short-list for presentations. To join the meeting\, please click on the public link below: \nPlease click the link below to join the webinar: \nhttps://us02web.zoom.us/j/88993524265?pwd=K09SU2ZJMHIrWkx5VXZLREk0eTJhZz09\nPassword: 307075 \nOr Telephone:\nUS: +1 929 436 2866 or +1 301 715 8592 or +1 312 626 6799\nWebinar ID: 889 9352 4265\nPassword: 307075 \n
URL:https://metroplanorlando.gov/meetings/rfp-2020-02-traffic-signal-retiming-shortlisting-virual-meeting-06-09-20/
LOCATION:Virutal Meeting
CATEGORIES:Other Meetings
END:VEVENT
END:VCALENDAR