BEGIN:VCALENDAR
VERSION:2.0
PRODID:-//MetroPlan Orlando - ECPv4.7.3//NONSGML v1.0//EN
CALSCALE:GREGORIAN
METHOD:PUBLISH
X-ORIGINAL-URL:https://metroplanorlando.gov
X-WR-CALDESC:Events for MetroPlan Orlando
BEGIN:VEVENT
TZID:America/New_York
DTSTART:20200304T090000
DTEND:20200304T110000
DTSTAMP:20260421T172845
CREATED:20200219T194139Z
LAST-MODIFIED:20200219T194139Z
UID:9832-1583312400-1583319600@metroplanorlando.gov
SUMMARY:RFP Selection Committee
DESCRIPTION:The selection committee for the General Planning Consultant (GPC) RFP 2020-01 will meet to compile the draft rankings of firms to short-list for presentations. \n
URL:https://metroplanorlando.gov/meetings/rfp-selection-committee-02-19-20/
LOCATION:MetroPlan Orlando Harold W. Barley Conference Room\, 250 S. Orange Ave.\, Suite 200\, Orlando\, FL\, 32801\, United States
GEO:28.5394075;-81.3797567
X-APPLE-STRUCTURED-LOCATION;VALUE=URI;X-ADDRESS=MetroPlan Orlando Harold W. Barley Conference Room 250 S. Orange Ave. Suite 200 Orlando FL 32801 United States;X-APPLE-RADIUS=500;X-TITLE=250 S. Orange Ave.\, Suite 200:geo:-81.3797567,28.5394075
CATEGORIES:Other Meetings
END:VEVENT
END:VCALENDAR