BEGIN:VCALENDAR
VERSION:2.0
PRODID:-//MetroPlan Orlando - ECPv4.7.3//NONSGML v1.0//EN
CALSCALE:GREGORIAN
METHOD:PUBLISH
X-ORIGINAL-URL:https://metroplanorlando.gov
X-WR-CALDESC:Events for MetroPlan Orlando
BEGIN:VEVENT
TZID:America/New_York
DTSTART:20180925T143000
DTEND:20180925T160000
DTSTAMP:20260422T012410
CREATED:20180918T185051Z
LAST-MODIFIED:20180918T185051Z
UID:7166-1537885800-1537891200@metroplanorlando.gov
SUMMARY:Safe Routes to Schools Applications Meeting
DESCRIPTION:Potential applications for Safe Routes to Schools projects will be discussed. For more information\, contact Nikhila Rose at 407-481-5672 x321. \nThis meeting is being posted to comply with Florida’s Government-in-the-Sunshine requirements\, as several MetroPlan Orlando committee members may be present. \n
URL:https://metroplanorlando.gov/meetings/safe-routes-to-schools-applications-meeting-09-18-18/
LOCATION:MetroPlan Orlando Harold W. Barley Conference Room\, 250 S. Orange Ave.\, Suite 200\, Orlando\, FL\, 32801\, United States
GEO:28.5394075;-81.3797567
X-APPLE-STRUCTURED-LOCATION;VALUE=URI;X-ADDRESS=MetroPlan Orlando Harold W. Barley Conference Room 250 S. Orange Ave. Suite 200 Orlando FL 32801 United States;X-APPLE-RADIUS=500;X-TITLE=250 S. Orange Ave.\, Suite 200:geo:-81.3797567,28.5394075
CATEGORIES:Other Meetings
ORGANIZER;CN="Rachel%20Frederick":MAILTO:Rachel.Frederick@MetroPlanOrlando.gov
END:VEVENT
END:VCALENDAR