BEGIN:VCALENDAR
VERSION:2.0
PRODID:-//MetroPlan Orlando - ECPv4.7.3//NONSGML v1.0//EN
CALSCALE:GREGORIAN
METHOD:PUBLISH
X-ORIGINAL-URL:https://metroplanorlando.gov
X-WR-CALDESC:Events for MetroPlan Orlando
BEGIN:VEVENT
TZID:America/New_York
DTSTART:20200508T140000
DTEND:20200508T160000
DTSTAMP:20260421T155553
CREATED:20200429T201851Z
LAST-MODIFIED:20200429T202321Z
UID:10263-1588946400-1588953600@metroplanorlando.gov
SUMMARY:Signal Retiming Coordination - Virtual Meeting
DESCRIPTION:This meeting provides a forum to discuss the retiming requests that have been submitted to be implemented as part of MetroPlan Orlando’s FY 2020-2021 cycle. The meeting will provide an opportunity to coordinate and identify opportunities to streamline the process. For questions\, contact Lara Bouck\, Transportation Planner\, at Lara.Bouck@MetroPlanOrlando.gov. \nThis meeting will be held remotely\, through the Zoom web conferencing platform\, to align with federal and state guidance on public events. \nPUBLIC ACCESS:\nTo join the meeting from your computer\, tablet or smartphone\, please use this link: \nhttps://us02web.zoom.us/j/89790436197?pwd=U3U2bUNNdWgyR3RNaEdJZzIrZmhodz09\nPassword: 953812 \nOr Telephone:\nUS: +1 301 715 8592 or +1 312 626 6799 or +1 929 436 2866\nWebinar ID: 897 9043 6197\nPassword: 953812 \nThe MetroPlan Orlando offices are closed to the public\, however members of the public may access this virtual meeting and participate via the Zoom link above\, or by dialing in. New to Zoom? Visit our virtual meetings page for resources on how to get the app ahead of time and be ready for the meeting. \n
URL:https://metroplanorlando.gov/meetings/signal-retiming-coordination-virtual-meeting-05-08-20/
LOCATION:Virutal Meeting
CATEGORIES:Other Meetings
END:VEVENT
END:VCALENDAR