BEGIN:VCALENDAR
VERSION:2.0
PRODID:-//MetroPlan Orlando - ECPv4.7.3//NONSGML v1.0//EN
CALSCALE:GREGORIAN
METHOD:PUBLISH
X-ORIGINAL-URL:https://metroplanorlando.gov
X-WR-CALDESC:Events for MetroPlan Orlando
BEGIN:VEVENT
TZID:America/New_York
DTSTART:20170825T113000
DTEND:20170825T130000
DTSTAMP:20260422T063342
CREATED:20170821T150920Z
LAST-MODIFIED:20170821T151041Z
UID:5691-1503660600-1503666000@metroplanorlando.gov
SUMMARY:SIS Connector Needs
DESCRIPTION:On behalf of FDOT\, Alex Trauger from HDR will be presenting preliminary recommendations on near-term operational improvements on designated Strategic Intermodal System (SIS) connectors. The presentation will summarize work efforts to date. Immediately following the Technical Advisory Committee (TAC) meeting\, the project team will be available in the Live Oak conference room to gain insights and feedback from local government and agency partners. This meeting is being posted to comply with Florida’s Government in the Sunshine laws\, as two or more TAC members may be present. For more information\, contact Nick Lepp\, MetroPlan Orlando manager of long range planning\, at 407-481-5642 x324. \n
URL:https://metroplanorlando.gov/meetings/sis-connector-needs-08-25-17/
LOCATION:MetroPlan Orlando Harold W. Barley Conference Room\, 250 S. Orange Ave.\, Suite 200\, Orlando\, FL\, 32801\, United States
GEO:28.5394075;-81.3797567
X-APPLE-STRUCTURED-LOCATION;VALUE=URI;X-ADDRESS=MetroPlan Orlando Harold W. Barley Conference Room 250 S. Orange Ave. Suite 200 Orlando FL 32801 United States;X-APPLE-RADIUS=500;X-TITLE=250 S. Orange Ave.\, Suite 200:geo:-81.3797567,28.5394075
CATEGORIES:Other Meetings
ORGANIZER;CN="Lisa%20Smith":MAILTO:Lisa.Smith@MetroPlanOrlando.gov
END:VEVENT
END:VCALENDAR