BEGIN:VCALENDAR
VERSION:2.0
PRODID:-//MetroPlan Orlando - ECPv4.7.3//NONSGML v1.0//EN
CALSCALE:GREGORIAN
METHOD:PUBLISH
X-ORIGINAL-URL:https://metroplanorlando.gov
X-WR-CALDESC:Events for MetroPlan Orlando
BEGIN:VEVENT
TZID:America/New_York
DTSTART:20200212T130000
DTEND:20200212T140000
DTSTAMP:20260421T173002
CREATED:20200204T141414Z
LAST-MODIFIED:20200204T141414Z
UID:9613-1581512400-1581516000@metroplanorlando.gov
SUMMARY:Sunrail Parking Discussion
DESCRIPTION:This meeting is being posted in accordance with Florida’s Government in the Sunshine\, because two or more MetroPlan Orlando board or committee members may be present. For more information\, contact: Mr. Nick Lepp\, nlepp@metroplanorlando.org \n
URL:https://metroplanorlando.gov/meetings/sunrail-parking-discussion-02-04-20/
LOCATION:MetroPlan Orlando Harold W. Barley Conference Room\, 250 S. Orange Ave.\, Suite 200\, Orlando\, FL\, 32801\, United States
GEO:28.5394075;-81.3797567
X-APPLE-STRUCTURED-LOCATION;VALUE=URI;X-ADDRESS=MetroPlan Orlando Harold W. Barley Conference Room 250 S. Orange Ave. Suite 200 Orlando FL 32801 United States;X-APPLE-RADIUS=500;X-TITLE=250 S. Orange Ave.\, Suite 200:geo:-81.3797567,28.5394075
CATEGORIES:Other Meetings
ORGANIZER;CN="Lisa%20Smith":MAILTO:Lisa.Smith@MetroPlanOrlando.gov
END:VEVENT
END:VCALENDAR