BEGIN:VCALENDAR
VERSION:2.0
PRODID:-//MetroPlan Orlando - ECPv4.7.3//NONSGML v1.0//EN
CALSCALE:GREGORIAN
METHOD:PUBLISH
X-ORIGINAL-URL:https://metroplanorlando.gov
X-WR-CALDESC:Events for MetroPlan Orlando
BEGIN:VEVENT
TZID:America/New_York
DTSTART:20200602T143000
DTEND:20200602T153000
DTSTAMP:20260421T173114
CREATED:20200529T185923Z
LAST-MODIFIED:20200529T190631Z
UID:10421-1591108200-1591111800@metroplanorlando.gov
SUMMARY:SunRail Parking Feasibility Scoping Meeting
DESCRIPTION:The purpose of this meeting is to develop a scope of work to assess the feasibility of expanding the parking capacity at the Meadow Woods\, Tupperware and Poinciana SunRail Stations. MetroPlan Orlando\, Orange County\, and Osceola County will cooperatively develop the feasibility study scope with participation from FDOT and SunRail staff. \nThis meeting will be facilitated on the Zoom web conferencing platform. For more information\, contact Nick Lepp\, MetroPlan Orlando director of transportation planning\, at nlepp@metroplanorlando.org. \nPlease click the link below to join the webinar: \nhttps://us02web.zoom.us/j/84557415211?pwd=ZnkvSERBSFJQS0x3cFRYakk4TzRJQT09\nPassword: 150336 \nOr Telephone:\nUS: +1 929 436 2866 or +1 301 715 8592 or +1 312 626 6799\nWebinar ID: 845 5741 5211\nPassword: 150336 \n
URL:https://metroplanorlando.gov/meetings/sunrail-parking-feasibility-scoping-meeting-06-02-20/
LOCATION:Virutal Meeting
CATEGORIES:Other Meetings
END:VEVENT
END:VCALENDAR