BEGIN:VCALENDAR
VERSION:2.0
PRODID:-//MetroPlan Orlando - ECPv4.7.3//NONSGML v1.0//EN
CALSCALE:GREGORIAN
METHOD:PUBLISH
X-ORIGINAL-URL:https://metroplanorlando.gov
X-WR-CALDESC:Events for MetroPlan Orlando
BEGIN:VEVENT
TZID:America/New_York
DTSTART:20180329T143000
DTEND:20180329T163000
DTSTAMP:20260422T015357
CREATED:20180328T123808Z
LAST-MODIFIED:20180328T123939Z
UID:6701-1522333800-1522341000@metroplanorlando.gov
SUMMARY:Traffic Signal Retiming Contract Meeting
DESCRIPTION:For more information\, please contact: Ms. Crystal Mercedes\, (407) 481-5672\, ext. 305. \n
URL:https://metroplanorlando.gov/meetings/traffic-signal-retiming-contract-meeting-03-29-18/
LOCATION:MetroPlan Orlando Harold W. Barley Conference Room\, 250 S. Orange Ave.\, Suite 200\, Orlando\, FL\, 32801\, United States
GEO:28.5394075;-81.3797567
X-APPLE-STRUCTURED-LOCATION;VALUE=URI;X-ADDRESS=MetroPlan Orlando Harold W. Barley Conference Room 250 S. Orange Ave. Suite 200 Orlando FL 32801 United States;X-APPLE-RADIUS=500;X-TITLE=250 S. Orange Ave.\, Suite 200:geo:-81.3797567,28.5394075
CATEGORIES:Other Meetings
ORGANIZER;CN="Rachel%20Frederick":MAILTO:Rachel.Frederick@MetroPlanOrlando.gov
END:VEVENT
END:VCALENDAR