BEGIN:VCALENDAR
VERSION:2.0
PRODID:-//MetroPlan Orlando - ECPv4.7.3//NONSGML v1.0//EN
CALSCALE:GREGORIAN
METHOD:PUBLISH
X-ORIGINAL-URL:https://metroplanorlando.gov
X-WR-CALDESC:Events for MetroPlan Orlando
BEGIN:VEVENT
TZID:America/New_York
DTSTART:20200824T130000
DTEND:20200824T140000
DTSTAMP:20260421T084631
CREATED:20200819T134733Z
LAST-MODIFIED:20200819T134733Z
UID:10970-1598274000-1598277600@metroplanorlando.gov
SUMMARY:Traffic Signal Retiming Coordinating Meeting
DESCRIPTION:The purpose of this meeting is to review and discuss draft assignments for the Fiscal Year 2020-2021 Traffic Signal Retiming program. To join this meeting click on the public link: \nPUBLIC LINK \nPlease click the link below to join the webinar:\nhttps://us02web.zoom.us/j/89046487958?pwd=N21DLzVrOGVIek90U1JUYXJQaEVEdz09\nPasscode: 674820 \nOr Telephone:\nUS: +1 312 626 6799 or +1 929 436 2866 or +1 301 715 8592\nWebinar ID: 890 4648 7958\nPasscode: 674820 \n
URL:https://metroplanorlando.gov/meetings/traffic-signal-retiming-coordinating-meeting-08-19-20/
LOCATION:Virtual Meeting
CATEGORIES:Other Meetings
END:VEVENT
END:VCALENDAR