BEGIN:VCALENDAR
VERSION:2.0
PRODID:-//MetroPlan Orlando - ECPv4.7.3//NONSGML v1.0//EN
CALSCALE:GREGORIAN
METHOD:PUBLISH
X-ORIGINAL-URL:https://metroplanorlando.gov
X-WR-CALDESC:Events for MetroPlan Orlando
BEGIN:VEVENT
TZID:America/New_York
DTSTART:20211213T080000
DTEND:20211213T170000
DTSTAMP:20260422T163017
CREATED:20211213T152019Z
LAST-MODIFIED:20211213T152019Z
UID:14447-1639382400-1639414800@metroplanorlando.gov
SUMMARY:Transportation Systems Management & Operations Advisory Committee
DESCRIPTION:The Transportation Systems Management & Operations Advisory Committee (TSMO) identifies and recommends relatively low-cost improvements to make the most of the existing transportation system. In addition\, the committee establishes measures to help reduce congestion and improve air quality in Central Florida. \nVIRTUAL PUBLIC ACCESS \n**Details coming soon** \nMaking Public Comments \nIf you’d like to make a public comment at this meeting\, please fill out a Speaker Card ahead of time (MetroPlanOrlando.org/SpeakerCard) to let MetroPlan Orlando staff know whether you will be making your comment from a virtual setting or whether you plan on attending in person. This will help us facilitate a more seamless\, touchless process for commenting. \nVisit our virtual meetings page for resources on how to get the app ahead of time and be ready for the meeting. \n
URL:https://metroplanorlando.gov/meetings/transportation-systems-management-operations-advisory-committee-12-13-21/
END:VEVENT
END:VCALENDAR