BEGIN:VCALENDAR
VERSION:2.0
PRODID:-//MetroPlan Orlando - ECPv4.7.3//NONSGML v1.0//EN
CALSCALE:GREGORIAN
METHOD:PUBLISH
X-ORIGINAL-URL:https://metroplanorlando.gov
X-WR-CALDESC:Events for MetroPlan Orlando
BEGIN:VEVENT
TZID:America/New_York
DTSTART:20230927T100000
DTEND:20230927T110000
DTSTAMP:20260422T202639
CREATED:20230905T161407Z
LAST-MODIFIED:20230905T161501Z
UID:18152-1695808800-1695812400@metroplanorlando.gov
SUMMARY:Transportation Systems Management & Operations - Master Plan Workshop
DESCRIPTION:Following the tour of the facilities\, there will be a discussion with FDOT representatives about the TSMO Master Plan\, which incorporates many technical solutions to transportation situations in the region. \nThis meeting is being posted in accordance with Florida’s Government in the Sunshine\, because two or more MetroPlan Orlando board or committee members may be present. If you have any questions\, please reach out to Ms. Rachel Frederick\, 407-418-5672\, ext.315\, rachel.frederick@MetroPlanOrlando.gov \n
URL:https://metroplanorlando.gov/meetings/transportation-systems-management-operations-master-plan-workshop-09-27-23/
LOCATION:FDOT Regional Traffic Management Center (RTMC)\, 4975 Wilson Road\, Sanford\, FL\, 32771\, United States
CATEGORIES:Other Meetings,Public Meeting
ORGANIZER;CN="Eric%20Hill":MAILTO:ehill@metroplanorlando.org
END:VEVENT
END:VCALENDAR