BEGIN:VCALENDAR
VERSION:2.0
PRODID:-//MetroPlan Orlando - ECPv4.7.3//NONSGML v1.0//EN
CALSCALE:GREGORIAN
METHOD:PUBLISH
X-ORIGINAL-URL:https://metroplanorlando.gov
X-WR-CALDESC:Events for MetroPlan Orlando
BEGIN:VEVENT
TZID:America/New_York
DTSTART:20180207T083000
DTEND:20180207T133000
DTSTAMP:20260422T050955
CREATED:20171121T190250Z
LAST-MODIFIED:20171219T194950Z
UID:5947-1517992200-1518010200@metroplanorlando.gov
SUMMARY:Transportation Think-In
DESCRIPTION:Transportation Think-In: Making 2045 Healthy\, Sustainable\, & Resilient will lay the groundwork for the region’s next long range transportation plan. For this event\, MetroPlan Orlando will convene a think tank of community leaders to discuss how our transportation system will support Central Florida’s fast-growing population in the year 2045. \nThese leaders\, who are traditionally not involved in transportation planning\, will provide new perspectives on the transportation challenges in our region. \nThis event is being published in accordance with Government in the Sunshine\, since two or more of the MetroPlan Orlando Board members may be present. \nFor more information\, please contact Elizabeth Whitton\, Transportation Planner\, at 407-481-5672 x312. \n
URL:https://metroplanorlando.gov/meetings/transportation-think-in-02-07-18/
LOCATION:Ace Cafe Orlando\, 100 West Livingston Street\, Orlando\, FL\, 32801\, United States
GEO:28.5469777;-81.3810638
X-APPLE-STRUCTURED-LOCATION;VALUE=URI;X-ADDRESS=Ace Cafe Orlando 100 West Livingston Street Orlando FL 32801 United States;X-APPLE-RADIUS=500;X-TITLE=100 West Livingston Street:geo:-81.3810638,28.5469777
CATEGORIES:Other Meetings
END:VEVENT
END:VCALENDAR