BEGIN:VCALENDAR
VERSION:2.0
PRODID:-//MetroPlan Orlando - ECPv4.7.3//NONSGML v1.0//EN
CALSCALE:GREGORIAN
METHOD:PUBLISH
X-ORIGINAL-URL:https://metroplanorlando.gov
X-WR-CALDESC:Events for MetroPlan Orlando
BEGIN:VEVENT
TZID:America/New_York
DTSTART:20230124T133000
DTEND:20230124T143000
DTSTAMP:20260423T100927
CREATED:20230117T153039Z
LAST-MODIFIED:20230117T170638Z
UID:16646-1674567000-1674570600@metroplanorlando.gov
SUMMARY:TSMO Master Plan Steering Committee Meeting
DESCRIPTION:\nPlease click the link below to join the webinar:\nhttps://us02web.zoom.us/j/89183058662?pwd=cVVOdU1ETytHN0N4Q1M0YzljeTlkUT09\nPasscode: 649951\n\nOr Telephone:\nDial(for higher quality\, dial a number based on your current location):\nUS: +1 305 224 1968 or +1 646 931 3860 or +1 929 436 2866 or +1 301 715 8592\nWebinar ID: 891 8305 8662\nPasscode: 649951\n
URL:https://metroplanorlando.gov/meetings/tsmo-master-plan-steering-committee-meeting-01-24-23/
LOCATION:Virtual Meeting
CATEGORIES:Committees,Other Meetings
ORGANIZER;CN="Lisa%20Smith":MAILTO:Lisa.Smith@MetroPlanOrlando.gov
END:VEVENT
END:VCALENDAR