BEGIN:VCALENDAR
VERSION:2.0
PRODID:-//MetroPlan Orlando - ECPv4.7.3//NONSGML v1.0//EN
CALSCALE:GREGORIAN
METHOD:PUBLISH
X-ORIGINAL-URL:https://metroplanorlando.gov
X-WR-CALDESC:Events for MetroPlan Orlando
BEGIN:VEVENT
TZID:America/New_York
DTSTART:20240730T150000
DTEND:20240730T163000
DTSTAMP:20260422T021154
CREATED:20240712T170134Z
LAST-MODIFIED:20250717T182120Z
UID:20273-1722351600-1722357000@metroplanorlando.gov
SUMMARY:Vision Zero Regional Task Force - Meeting #6
DESCRIPTION:The 6th Vision Zero Regional Task Force meeting will address the draft plan\, demonstration projects\, supplemental planning grant application\, and the future form of the Task Force.  For more information\, please contact Mighk Wilson at 407-481-5672\, ext 318 Mighk.Wilson@MetroPlanOrlando.gov \n  \nVirtual Link:  \nhttps://us02web.zoom.us/j/81499740118?pwd=NUyaugs9gZbCdlz1KNppWcee2X6GW3.1\nPasscode: 996731 \nOr Telephone:\n+1 305 224 1968\n+1 312 626 6799\n+1 646 931 3860 \nWebinar ID: 814 9974 0118\nPasscode: 996731 \n  \n
URL:https://metroplanorlando.gov/meetings/vision-zero-regional-task-force-meeting-6-07-30-24/
LOCATION:Virtual Meeting
CATEGORIES:Vision Zero Task Force
ORGANIZER;CN="Rachel%20Frederick":MAILTO:Rachel.Frederick@MetroPlanOrlando.gov
END:VEVENT
END:VCALENDAR