BEGIN:VCALENDAR
VERSION:2.0
PRODID:-//MetroPlan Orlando - ECPv4.7.3//NONSGML v1.0//EN
CALSCALE:GREGORIAN
METHOD:PUBLISH
X-ORIGINAL-URL:https://metroplanorlando.gov
X-WR-CALDESC:Events for MetroPlan Orlando
BEGIN:VEVENT
TZID:America/New_York
DTSTART:20250715T150000
DTEND:20250715T163000
DTSTAMP:20260425T031140
CREATED:20250114T150445Z
LAST-MODIFIED:20250717T182618Z
UID:21584-1752591600-1752597000@metroplanorlando.gov
SUMMARY:Vision Zero Task Force Meeting
DESCRIPTION:The Vision Zero Task Force provides on-going input and guidance on the implementation of MetroPlan Orlando’s Regional Vision Zero Safety Action Plan. For more information\, contact Mr. Mighk Wilson\, Mighk.Wilson@MetroPlanOrlando.gov  (407) -481-5672 \nVIRTUAL PUBLIC ACCESS:\nhttps://us02web.zoom.us/j/88240552362?pwd=00ZIZ8MO2e35RhPgDmcCoQB60e9ZQh.1\nPasscode:406955 \nJoin via audio:\n+1 305 224 1968\n+1 646 931 3860\n+1 929 436 2866 \nWebinar ID: 882 4055 2362\nPasscode: 406955 \nThis meeting is via Zoom only. \n
URL:https://metroplanorlando.gov/meetings/vision-zero-task-force-meeting-07-15-25/
LOCATION:Virtual Meeting
CATEGORIES:Vision Zero Task Force
ORGANIZER;CN="Rachel%20Frederick":MAILTO:Rachel.Frederick@MetroPlanOrlando.gov
END:VEVENT
END:VCALENDAR